BEGIN:VCALENDAR
VERSION:2.0
PRODID:-//Divina Pastora de Málaga | Web Oficial - ECPv6.15.20//NONSGML v1.0//EN
CALSCALE:GREGORIAN
METHOD:PUBLISH
X-ORIGINAL-URL:https://divinapastora.org
X-WR-CALDESC:Eventos para Divina Pastora de Málaga | Web Oficial
REFRESH-INTERVAL;VALUE=DURATION:PT1H
X-Robots-Tag:noindex
X-PUBLISHED-TTL:PT1H
BEGIN:VTIMEZONE
TZID:Europe/Madrid
BEGIN:DAYLIGHT
TZOFFSETFROM:+0100
TZOFFSETTO:+0200
TZNAME:CEST
DTSTART:20210328T010000
END:DAYLIGHT
BEGIN:STANDARD
TZOFFSETFROM:+0200
TZOFFSETTO:+0100
TZNAME:CET
DTSTART:20211031T010000
END:STANDARD
BEGIN:DAYLIGHT
TZOFFSETFROM:+0100
TZOFFSETTO:+0200
TZNAME:CEST
DTSTART:20220327T010000
END:DAYLIGHT
BEGIN:STANDARD
TZOFFSETFROM:+0200
TZOFFSETTO:+0100
TZNAME:CET
DTSTART:20221030T010000
END:STANDARD
BEGIN:DAYLIGHT
TZOFFSETFROM:+0100
TZOFFSETTO:+0200
TZNAME:CEST
DTSTART:20230326T010000
END:DAYLIGHT
BEGIN:STANDARD
TZOFFSETFROM:+0200
TZOFFSETTO:+0100
TZNAME:CET
DTSTART:20231029T010000
END:STANDARD
END:VTIMEZONE
BEGIN:VEVENT
DTSTART;TZID=Europe/Madrid:20220501T120000
DTEND;TZID=Europe/Madrid:20220501T133000
DTSTAMP:20260426T054626
CREATED:20220427T152519Z
LAST-MODIFIED:20220428T104948Z
UID:3376-1651406400-1651411800@divinapastora.org
SUMMARY:Quinto día Solemne Novena a la Divina Pastora
DESCRIPTION:Quinto día de la Solemne Novena en honor de la Divina Pastora de las Almas\, con el siguiente orden de cultos: a las doce del mediodía\, rezo del Santo Rosario\, Ejercicio de la Novena y Santa Misa. \nPredica el Rvdo. P. D. Rafael J. Pérez Pallarés\, director espiritual de la Congregación y párroco de la Divina Pastora y Santa Teresa de Jesús y del Buen Pastor. \nLas intenciones se aplicarán por nuestros hermanos en el carisma franciscano de la Hermandad del Dulce Nombre y la Hermandad de la Crucifixión\, de la Unidad Pastoral que formamos con la parroquia del Buen Pastor.
URL:https://divinapastora.org/evento/2022-05-01-quinto-dia-solemne-novena-a-la-divina-pastora/
LOCATION:Parroquia de la Divina Pastora y Santa Teresa\, Plaza de Capuchinos\, 5\, Málaga\, 29014\, España
CATEGORIES:Culto
ATTACH;FMTTYPE=image/jpeg:https://divinapastora.org/wp-content/uploads/Novena-Divina-Pastora-Málaga-2022.jpeg
ORGANIZER;CN="Congregaci%C3%B3n de la Divina Pastora de las Almas":MAILTO:congregacion@divinapastora.org
END:VEVENT
BEGIN:VEVENT
DTSTART;TZID=Europe/Madrid:20220502T193000
DTEND;TZID=Europe/Madrid:20220502T210000
DTSTAMP:20260426T054626
CREATED:20220427T153055Z
LAST-MODIFIED:20220428T215206Z
UID:3377-1651519800-1651525200@divinapastora.org
SUMMARY:Sexto día Solemne Novena a la Divina Pastora
DESCRIPTION:Sexto día de la Solemne Novena en honor de la Divina Pastora de las Almas\, con el siguiente orden de cultos: a las siete y media de la tarde\, rezo del Santo Rosario\, Ejercicio de la Novena y Santa Misa. \nPredica el Rvdo. P. D. Antonio Fernández López\, expárroco de la parroquia de la Divina Pastora y actualmente párroco de San Sebastián (Antequera). Participará en la celebración de la eucaristía el coro Los Romeros del Carmen\, de La Cala del Moral. \nLas intenciones se aplicarán por la familia salesiana del barrio de Capuchinos: la Archicofradía de María Auxiliadora Coronada\, la Hermandad Salesiana del Cristo de las Penas y la propia comunidad salesiana; así como por el eterno descanso de Dolores Sevillano López.
URL:https://divinapastora.org/evento/2022-05-02-sexto-dia-solemne-novena-a-la-divina-pastora/
LOCATION:Parroquia de la Divina Pastora y Santa Teresa\, Plaza de Capuchinos\, 5\, Málaga\, 29014\, España
CATEGORIES:Culto
ATTACH;FMTTYPE=image/jpeg:https://divinapastora.org/wp-content/uploads/Novena-Divina-Pastora-Málaga-2022.jpeg
ORGANIZER;CN="Congregaci%C3%B3n de la Divina Pastora de las Almas":MAILTO:congregacion@divinapastora.org
END:VEVENT
BEGIN:VEVENT
DTSTART;TZID=Europe/Madrid:20220503T193000
DTEND;TZID=Europe/Madrid:20220503T210000
DTSTAMP:20260426T054626
CREATED:20220427T153107Z
LAST-MODIFIED:20220428T215156Z
UID:3378-1651606200-1651611600@divinapastora.org
SUMMARY:Séptimo día Solemne Novena a la Divina Pastora
DESCRIPTION:Séptimo día de la Solemne Novena en honor de la Divina Pastora de las Almas\, con el siguiente orden de cultos: a las siete y media de la tarde\, rezo del Santo Rosario\, Ejercicio de la Novena y Santa Misa. \nPredica el Rvdo. P. D. Andrés Merino Mateo\, párroco de la Virgen Milagrosa y San Dámaso Papa. Participará en la celebración de la eucaristía el coro Amigos de La Malagueta. \nLas intenciones se aplicarán por los centros educativos del barrio de Capuchinos: los colegios Divina Pastora\, Miguel de Cervantes y Lex Flavia Malacitana y el Conservatorio Superior de Música de Málaga.
URL:https://divinapastora.org/evento/2022-05-03-septimo-dia-solemne-novena-a-la-divina-pastora/
LOCATION:Parroquia de la Divina Pastora y Santa Teresa\, Plaza de Capuchinos\, 5\, Málaga\, 29014\, España
CATEGORIES:Culto
ATTACH;FMTTYPE=image/jpeg:https://divinapastora.org/wp-content/uploads/Novena-Divina-Pastora-Málaga-2022.jpeg
ORGANIZER;CN="Congregaci%C3%B3n de la Divina Pastora de las Almas":MAILTO:congregacion@divinapastora.org
END:VEVENT
BEGIN:VEVENT
DTSTART;TZID=Europe/Madrid:20220504T193000
DTEND;TZID=Europe/Madrid:20220504T210000
DTSTAMP:20260426T054626
CREATED:20220427T153117Z
LAST-MODIFIED:20220428T215142Z
UID:3379-1651692600-1651698000@divinapastora.org
SUMMARY:Octavo día Solemne Novena a la Divina Pastora
DESCRIPTION:Octavo día de la Solemne Novena en honor de la Divina Pastora de las Almas\, con el siguiente orden de cultos: a las siete y media de la tarde\, rezo del Santo Rosario\, Ejercicio de la Novena y Santa Misa. \nPredica el Rvdo. P. D. Juan Carlos Millán Guerrero\, párroco de San Antonio de Padua (Ronda). Participará en la celebración de la eucaristía el coro Son de Málaga. \nLas intenciones sLas intenciones se aplicarán por los colectivos vecinales y sociales del barrio de Capuchinos: la Asociación de Jubilados y Pensionistas Capuchinera\, las asociaciones de vecinos de Segalerva y Victoriana de Capuchinos y la Peña La Biznaga.
URL:https://divinapastora.org/evento/2022-05-04-octavo-dia-solemne-novena-a-la-divina-pastora/
LOCATION:Parroquia de la Divina Pastora y Santa Teresa\, Plaza de Capuchinos\, 5\, Málaga\, 29014\, España
CATEGORIES:Culto
ATTACH;FMTTYPE=image/jpeg:https://divinapastora.org/wp-content/uploads/Novena-Divina-Pastora-Málaga-2022.jpeg
ORGANIZER;CN="Congregaci%C3%B3n de la Divina Pastora de las Almas":MAILTO:congregacion@divinapastora.org
END:VEVENT
BEGIN:VEVENT
DTSTART;TZID=Europe/Madrid:20220505T193000
DTEND;TZID=Europe/Madrid:20220505T210000
DTSTAMP:20260426T054626
CREATED:20220427T153148Z
LAST-MODIFIED:20220428T215133Z
UID:3380-1651779000-1651784400@divinapastora.org
SUMMARY:Noveno día Solemne Novena a la Divina Pastora
DESCRIPTION:Noveno día de la Solemne Novena en honor de la Divina Pastora de las Almas\, con el siguiente orden de cultos: a las siete y media de la tarde\, rezo del Santo Rosario\, Ejercicio de la Novena y Santa Misa. \nPredica el Rvdo. P. D. Miguel Chacón Vílchez\, párroco de Santa Ana (Algarrobo). Participará en la celebración de la eucaristía el coro Aire Andaluz. \nLas intenciones se aplicarán por la devoción pastoreña en nuestra provincia y los colectivos que promueven su difusión: los grupos parroquiales de la Divina Pastora de las localidades de Cártama y Algarrobo; y la Asociación Amigos de Los Rondeles de Casarabonela.
URL:https://divinapastora.org/evento/2022-05-05-noveno-dia-solemne-novena-a-la-divina-pastora/
LOCATION:Parroquia de la Divina Pastora y Santa Teresa\, Plaza de Capuchinos\, 5\, Málaga\, 29014\, España
CATEGORIES:Culto
ATTACH;FMTTYPE=image/jpeg:https://divinapastora.org/wp-content/uploads/Novena-Divina-Pastora-Málaga-2022.jpeg
ORGANIZER;CN="Congregaci%C3%B3n de la Divina Pastora de las Almas":MAILTO:congregacion@divinapastora.org
END:VEVENT
BEGIN:VEVENT
DTSTART;TZID=Europe/Madrid:20220506T200000
DTEND;TZID=Europe/Madrid:20220506T203000
DTSTAMP:20260426T054626
CREATED:20220428T083511Z
LAST-MODIFIED:20220428T103322Z
UID:3423-1651867200-1651869000@divinapastora.org
SUMMARY:Vigilia de la festividad de la Madre del Buen Pastor
DESCRIPTION:El cuarto fin de semana del tiempo de Pascua es la fiesta del Buen Pastor\, siendo el sábado el día que la Iglesia dedica a la Madre del Buen Pastor: este año\, la festividad litúrgica coincidirá con la Procesión de Alabanza de la Divina Pastora de las Almas. En su víspera\, la Congregación celebrará junto a toda la comunidad parroquial una vigilia con la Patrona de Capuchinos en su trono de procesión. El acto consistirá en la celebración de la Eucaristía y una oración al Buen Pastor y a la Santísima Virgen.
URL:https://divinapastora.org/evento/2022-05-06-vigilia-de-la-festividad-de-la-madre-del-buen-pastor/
LOCATION:Parroquia de la Divina Pastora y Santa Teresa\, Plaza de Capuchinos\, 5\, Málaga\, 29014\, España
CATEGORIES:Culto
ATTACH;FMTTYPE=image/jpeg:https://divinapastora.org/wp-content/uploads/Divina-Pastora-novena-2021.jpeg
ORGANIZER;CN="Congregaci%C3%B3n de la Divina Pastora de las Almas":MAILTO:congregacion@divinapastora.org
END:VEVENT
BEGIN:VEVENT
DTSTART;TZID=Europe/Madrid:20220507T183000
DTEND;TZID=Europe/Madrid:20220507T233000
DTSTAMP:20260426T054626
CREATED:20220428T075536Z
LAST-MODIFIED:20220428T104324Z
UID:3416-1651948200-1651966200@divinapastora.org
SUMMARY:Procesión de Alabanza de la Divina Pastora
DESCRIPTION:La normalidad será reencontrarnos con la Divina Pastora de las Almas por las calles de Capuchinos llegadas sus fiestas patronales del mes de mayo. Tras dos años sin Procesión de Alabanza por la pandemia del coronavirus\, la cita será el día 7\, como determinan las Reglas de la Congregación\, en la víspera del segundo domingo de mayo\, fecha en la que tiene lugar la Función Principal de Instituto. \nITINERARIO. Salida a las 18.30 horas. Plaza de Capuchinos\, Alameda de Capuchinos\, Alameda de Barceló\, Montserrat\, Rodríguez\, Vasco de Gama\, Hernán Cortés\, Peinado\, Daoiz\, López Domínguez\, Alderete\, Benjamín Palencia\, Duque de Rivas\, San Bartolomé\, Rosario\, Cruz del Molinillo\, Alderete\, Tizo\, Capuchinos\, Plaza de Capuchinos y a su Templo (23.30 horas). En el encierro\, sólo podrán acceder al templo los participantes en la Procesión de Alabanza. \nParticipará la banda Maestro Eloy García\, de la Archicofradía de la Expiración\, que interpretará por primera vez tras la Divina Pastora de las Almas la marcha que se le ofrendó por el 250º aniversario de su Congregación (1771-2021)\, La Virgen de Capuchinos\, que el compositor ubetense Cristóbal López Gándara terminó de escribir en agosto de 2020.
URL:https://divinapastora.org/evento/2022-05-07-procesion-de-alabanza-de-la-divina-pastora/
LOCATION:Parroquia de la Divina Pastora y Santa Teresa\, Plaza de Capuchinos\, 5\, Málaga\, 29014\, España
CATEGORIES:Salida
ATTACH;FMTTYPE=image/jpeg:https://divinapastora.org/wp-content/uploads/Salida-Procesión-de-Alabanza-2019.jpg
ORGANIZER;CN="Congregaci%C3%B3n de la Divina Pastora de las Almas":MAILTO:congregacion@divinapastora.org
END:VEVENT
BEGIN:VEVENT
DTSTART;TZID=Europe/Madrid:20220508T123000
DTEND;TZID=Europe/Madrid:20220508T140000
DTSTAMP:20260426T054626
CREATED:20220428T082833Z
LAST-MODIFIED:20220428T082833Z
UID:3418-1652013000-1652018400@divinapastora.org
SUMMARY:Solemne Función Principal de Instituto
DESCRIPTION:Solemne Función Principal de Instituto como culminación a la Solemne Novena en honor a la Divina Pastora de las Almas y en la que los congregantes están convocados para hacer protestación pública de su fe y renovar su compromiso como miembros de la Iglesia y de la Congregación\, tal y como marcan los Estatutos. \nLa Función será oficiada por el párroco y director espiritual de la Congregación\, Rafael J. Pérez Pallarés. \nLas intenciones se aplicarán por nuestro barrio de Capuchinos y toda la familia franciscana\, en especial la Comunidad de Hermanas Clarisas del convento de Santa Clara y los frailes capuchinos\, quienes trajeron a Málaga la devoción a la Madre del Buen Pastor; por las hermandades pastoreñas de Andalucía\, por las entidades deportivas de Málaga y la Coral Santa María de la Victoria.
URL:https://divinapastora.org/evento/2022-05-08-solemne-funcion-principal-de-instituto/
LOCATION:Parroquia de la Divina Pastora y Santa Teresa\, Plaza de Capuchinos\, 5\, Málaga\, 29014\, España
CATEGORIES:Culto
ORGANIZER;CN="Congregaci%C3%B3n de la Divina Pastora de las Almas":MAILTO:congregacion@divinapastora.org
END:VEVENT
BEGIN:VEVENT
DTSTART;TZID=Europe/Madrid:20220526T203000
DTEND;TZID=Europe/Madrid:20220526T213000
DTSTAMP:20260426T054626
CREATED:20220524T103349Z
LAST-MODIFIED:20220524T140350Z
UID:3440-1653597000-1653600600@divinapastora.org
SUMMARY:Conferencia formativa 'Los dogmas marianos y la realeza de María. María en la Historia de la Salvación'
DESCRIPTION:La preparación para la Coronación Canónica de la Divina Pastora contempla un programa de formación doctrinal\, bajo el lema OVEJAS DE SU REBAÑO. Las jornadas formativas son abiertas a todos y se dirigen principalmente a los congregantes y devotos\, así como a la comunidad parroquial del barrio de Capuchinos\, a fin de propiciar un encuentro personal con Jesucristo y contribuir al proceso de maduración de la fe. \nLa conferencia Los dogmas marianos y la realeza de María. María en la Historia de la Salvación será impartida por el vocal de Formación de la Congregación\, Andrés E. García Infante\, que es licenciado en Ciencias Religiosas por el I. S. C. R. San Pablo y Máster en Teología en el marco de las Humanidades por la Universidad de Murcia y el I. T. M. Franciscano; y licenciado en Teología fundamental\, por la Pontificia Universidad Antoniana de Roma. Se realizará de forma conjunta con la Hermandad de las Penas\, que anualmente celebra la Fiesta de la Realeza de María en los últimos días del mes de mayo. Por ello\, tendrá lugar en la Sala Capitular de la propia Corporación del Martes Santo\, en la casa hermandad anexa al propio Oratorio de la Cofradía de las Penas\, sito en el entorno de Pozos Dulces.
URL:https://divinapastora.org/evento/2022-05-26-conferencia-formativa-los-dogmas-marianos-y-la-realeza-de-maria-maria-en-la-historia-de-la-salvacion/
LOCATION:Cofradía de Las Penas\, Plazuela Virgen de las Penas\, s/n\, Málaga\, Málaga\, 29008
CATEGORIES:Formación
ATTACH;FMTTYPE=image/jpeg:https://divinapastora.org/wp-content/uploads/Presentación-Preparación-Coronación-Canónica-Divina-Pastora-Málaga-2.jpg
ORGANIZER;CN="Congregaci%C3%B3n de la Divina Pastora de las Almas":MAILTO:congregacion@divinapastora.org
END:VEVENT
END:VCALENDAR